BEGIN:VCALENDAR
PRODID:-//Microsoft Corporation//Outlook 14.0 MIMEDIR//EN
VERSION:2.0
METHOD:PUBLISH
X-MS-OLK-FORCEINSPECTOROPEN:TRUE
BEGIN:VEVENT
CLASS:PUBLIC
CREATED:20140308T084844Z
DESCRIPTION:\n
DTEND;VALUE=DATE:20151112
DTSTAMP:20140308T084844Z
DTSTART;VALUE=DATE:20151111
LAST-MODIFIED:20140308T084844Z
LOCATION:Kulturcasino à Berne
PRIORITY:5
SEQUENCE:0
SUMMARY;LANGUAGE=de:Congrès de H+ 2015
TRANSP:TRANSPARENT
UID:040000008200E00074C5B7101A82E00800000000507CFE39B33ACF01000000000000000
	01000000016F745794C8747458DAC0E70B7E35E73
X-ALT-DESC;FMTTYPE=text/html:<!DOCTYPE HTML PUBLIC "-//W3C//DTD HTML 3.2//E
	N">\n<HTML>\n<HEAD>\n<META NAME="Generator" CONTENT="MS Exchange Server ve
	rsion 08.01.0240.003">\n<TITLE></TITLE>\n</HEAD>\n<BODY>\n<!-- Converted f
	rom text/rtf format -->\n\n<P DIR=LTR><SPAN LANG="de"></SPAN></P>\n\n</BOD
	Y>\n</HTML>
X-MICROSOFT-CDO-BUSYSTATUS:FREE
X-MICROSOFT-CDO-IMPORTANCE:1
X-MICROSOFT-DISALLOW-COUNTER:FALSE
X-MS-OLK-AUTOFILLLOCATION:FALSE
X-MS-OLK-CONFTYPE:0
BEGIN:VALARM
TRIGGER:-PT1080M
ACTION:DISPLAY
DESCRIPTION:Reminder
END:VALARM
END:VEVENT
END:VCALENDAR
